Workbook

Sheet Totals Page
B1: DIRECTIONS: Input requested budget information into the corresponding budget categories found in the tabs below. The totals from each budget category will automatically calculate on this page.
B3: Grantee Name:
B4: Contract Number:
B5: Contract Term/Period:
B6: Award Amount:
B8: Budget Category: | C8: Amount:
B9: Salary | C9: ='Personnel Salary'!E2 -> 0
B10: Fringe | C10: =Fringe!E2 -> 0
B11: Contractual | C11: ='Contractual '!E2 -> 0
B12: Travel | C12: =Travel!E2 -> 0
B13: Equipment | C13: ='Equipment '!E2 -> 0
B14: Space/Property: Rent | C14: ='Space-Property Rent'!E2 -> 0
B15: Space/Property: Own | C15: ='Space-Property Own'!E2 -> 0
B16: Utilities | C16: =Utilities!E2 -> 0
B17: Operating Expenses | C17: ='Operating Expenses'!E2 -> 0
B18: Other | C18: ='Other Expenses'!E2 -> 0
B20: Budget Total: | C20: =SUM(C9:C18) -> 0 | E20: =IF(C22="NO","ERROR! Budget does not equal Award amount","")
E21: =IF(C22="NO","ERROR! Budget does not equal Award amount","")
B22: Does the Budget Total Match the Total Award Amount? | C22: =IF(C20=C6,"YES","NO") -> YES | E22: =IF(C22="NO","ERROR! Budget does not equal Award amount","")

Sheet Personnel Salary
B1: SALARY INSTRUCTIONS: | C1: Include staff positions related to the implementation and administration of the program that are being charged to the grant. If Salary is not applicable, leave this section blank. Total Grant Funds will calculate on its own based on the following equation; Annual Salary * Percent Funded * (number of months as a fraction of 12) * Number of Positions in Title = Grant Funds. Annual Salary is the total yearly income for that Position/Title.
D2: Line Item Total: | E2: =SUM(C10,C20,C30,C40,C50,C60,C70,C80,C90,C100,C110,C120,C130,C140,C150,C160,C170,C180,C190,C200) -> 0
B3: Position/Title:
B4: Justification:
B5: Number of Positions in Title:
B6: Annualized Salary Per Position:
B7: STD Work Week (hours):
B8: Percent Funded:
B9: Number of Months Funded:
B10: Total Grant Funds: | C10: =C6/12*C8*C9*C5 -> 0
B13: Position/Title:
B14: Justification:
B15: Number of Positions in Title:
B16: Annualized Salary Per Position:
B17: STD Work Week (hours):
B18: Percent Funded:
B19: Number of Months Funded:
B20: Total Grant Funds: | C20: =C16/12*C18*C19*C15 -> 0
B23: Position/Title:
B24: Justification:
B25: Number of Positions in Title:
B26: Annualized Salary Per Position:
B27: STD Work Week (hours):
B28: Percent Funded:
B29: Number of Months Funded:
B30: Total Grant Funds: | C30: =C26/12*C28*C29*C25 -> 0
B33: Position/Title:
B34: Justification:
B35: Number of Positions in Title:
B36: Annualized Salary Per Position:
B37: STD Work Week (hours):
B38: Percent Funded:
B39: Number of Months Funded:
B40: Total Grant Funds: | C40: =C36/12*C38*C39*C35 -> 0
B43: Position/Title:
B44: Justification:
B45: Number of Positions in Title:
B46: Annualized Salary Per Position:
B47: STD Work Week (hours):
B48: Percent Funded:
...

Sheet Fringe
B1: FRINGE INSTRUCTIONS: | C1: Fringe Benefits should be budgeted in line with your organization’s Standard Fringe Benefit Policy and/or Negotiated Bargaining Agreements and should not exceed the current NYS rate. Provide a brief explanation of the percentage and composition of the fringe benefit structure. If Fringe is not applicable, leave this section blank.
D2: Line Item Total: | E2: =SUM(C5,C10,C15,C20,C25,C30,C35,C40,C45,C50) -> 0
B3: Fringe - Type/Description:
B4: Justification:
B5: Total Grant Funds:
B8: Fringe - Type/Description:
B9: Justification:
B10: Total Grant Funds:
B13: Fringe - Type/Description:
B14: Justification:
B15: Total Grant Funds:
B18: Fringe - Type/Description:
B19: Justification:
B20: Total Grant Funds:
... B50: Total Grant Funds:

Sheet Contractual 
B1: CONTRACTUAL INSTRUCTIONS: | C1: The Contractual Services section should include costs for services rendered to the project under a format or written agreement such as direct provision of services by contractual arrangement. If Contractual is not applicable, leave this section blank.
D2: Line Item Total: | E2: =SUM(C5,C10,C15,C20,C25,C30,C35,C40,C45,C50) -> 0
B3: Contractual - Type/Description:
B4: Justification:
B5: Total Grant Funds:
B8: Contractual - Type/Description:
B9: Justification:
B10: Total Grant Funds:
B13: Contractual - Type/Description:
B14: Justification:
B15: Total Grant Funds:
B18: Contractual - Type/Description:
B19: Justification:
B20: Total Grant Funds:
... B50: Total Grant Funds:

Sheet Travel
B1: TRAVEL INSTRUCTIONS: | C1: This section is used to itemize travel costs. If Travel is not applicable, leave this section blank.
D2: Line Item Total: | E2: =SUM(C5,C9,C13,C17,C21,C25,C29,C33,C37,C41) -> 0
B3: Travel - Type/Description:
B4: Justification:
B5: Total Grant Funds:
B7: Travel - Type/Description:
B8: Justification:
B9: Total Grant Funds:
B11: Travel - Type/Description:
B12: Justification:
B13: Total Grant Funds:
B15: Travel - Type/Description:
B16: Justification:
B17: Total Grant Funds:
... B41: Total Grant Funds:

Sheet Equipment 
B1: EQUIPMENT INSTRUCTIONS: | C1: This section is used to itemize both purchased and rental equipment costs. If Equipment is not applicable, leave this section blank.
D2: Line Item Total: | E2: =SUM(C6,C12,C18,C24,C30,C36,C42,C48,C54,C60) -> 0
B3: Equipment:
B4: Justification:
B5: Purchase/Rent?:
B6: Total Grant Funds :
B9: Equipment:
B10: Justification:
B11: Purchase/Rent?:
B12: Total Grant Funds :
B15: Equipment:
B16: Justification:
B17: Purchase/Rent?:
B18: Total Grant Funds :
... B60: Total Grant Funds :

Sheet Space-Property Rent
B1: SPACE/PROPERTY(RENT) INSTRUCTIONS: | C1: This section is used to itemize costs associated with Space/Property: Rent. If Space/Property: Rent is not applicable, leave this section blank.
D2: Line Item Total: | E2: =SUM(C5,C10,C15,C20,C25,C30,C35,C40,C45,C50,C55) -> 0
B3: Space/Property: Rent - Type/Description:
B4: Justification:
B5: Total Grant Funds:
B8: Space/Property: Rent - Type/Description:
B9: Justification:
B10: Total Grant Funds:
B13: Space/Property: Rent - Type/Description:
B14: Justification:
B15: Total Grant Funds:
B18: Space/Property: Rent - Type/Description:
B19: Justification:
B20: Total Grant Funds:
... B55: Total Grant Funds:

Sheet Space-Property Own
B1: SPACE/PROPERTY (OWN) INSTRUCTIONS: | C1: This section is used to itemize costs associated with Space/Property: Own. If Space/Property: Own is not applicable, leave this section blank.
D2: Line Item Total: | E2: =SUM(C5,C10,C15,C20,C25,C30,C35,C40,C45,C50,C55) -> 0
B3: Space/Property: Own - Type/Description:
B4: Justification:
B5: Total Grant Funds:
B8: Space/Property: Own - Type/Description:
B9: Justification:
B10: Total Grant Funds:
B13: Space/Property: Own - Type/Description:
B14: Justification:
B15: Total Grant Funds:
B18: Space/Property: Own - Type/Description:
B19: Justification:
B20: Total Grant Funds:
... B55: Total Grant Funds:

Sheet Utilities
B1: UTILITIES INSTRUCTIONS: | C1: This section is used to itemize costs associated with Utilities. If Utilities are not applicable, leave this section blank.
D2: Line Item Total: | E2: =SUM(C5,C10,C15,C20,C25,C30,C35,C40,C45,C50,C55) -> 0
B3: Utilities - Type/Description:
B4: Justification:
B5: Total Grant Funds:
B8: Utilities - Type/Description:
B9: Justification:
B10: Total Grant Funds:
B13: Utilities - Type/Description:
B14: Justification:
B15: Total Grant Funds:
B18: Utilities - Type/Description:
B19: Justification:
B20: Total Grant Funds:
... B55: Total Grant Funds:

Sheet Operating Expenses
B1: OPERATING EXPENSES INSTRUCTIONS: | C1: This section is used to itemize costs associated with the operation of the program, including but not limited to insurance/bonding, photocopying, advertising, and supplies. If Operating Expenses are not applicable, leave this section blank.
D2: Line Item Total: | E2: =SUM(C5,C10,C15,C20,C25,C30,C35,C40,C45,C50) -> 0
B3: Operating Expenses - Type/Description:
B4: Justification:
B5: Total Grant Funds:
B8: Operating Expenses - Type/Description:
B9: Justification:
B10: Total Grant Funds:
B13: Operating Expenses - Type/Description:
B14: Justification:
B15: Total Grant Funds:
B18: Operating Expenses - Type/Description:
B19: Justification:
B20: Total Grant Funds:
... B50: Total Grant Funds:

Sheet Other Expenses
B1: OTHER INSTRUCTIONS: | C1: If Other Expenses is not applicable, leave this section blank.
D2: Line Item Total: | E2: =SUM(C5,C10,C15,C20,C25,C30,C35,C40,C45,C50) -> 0
B3: Other Expenses - Type/Description:
B4: Justification:
B5: Total Grant Funds:
B8: Other Expenses - Type/Description:
B9: Justification:
B10: Total Grant Funds:
B13: Other Expenses - Type/Description:
B14: Justification:
B15: Total Grant Funds:
B18: Other Expenses - Type/Description:
B19: Justification:
B20: Total Grant Funds:
... B50: Total Grant Funds:
